BEGIN:VCALENDAR
VERSION:2.0
PRODID:-//Kulvio Event Calendar//kulvio.de//
CALSCALE:GREGORIAN
METHOD:PUBLISH
BEGIN:VEVENT
SUMMARY:Erlensee Rockt Open Air Festival - Freitag
DTSTART:20260710T150000Z
DTEND:20260710T215900Z
DTSTAMP:20260421T042308Z
UID:kulvio-event-2837@kulvio.de
CATEGORIES:Festival,Open-Air
CREATED:20260419T160523Z
DESCRIPTION:Das Erlensee Rockt Open Air Festival startet am Freitag auf de
 m Fußballzentrum am Fliegerhorst mit Tribute-Bands auf zwei Bühnen. Zu d
 en Headlinern des ersten Tages gehören die Queen-Tribute-Band Aura The Qu
 een und die Tina-Turner-Show This is Tina. Das zweitägige Festival wird v
 om Verein Erlensee Rockt organisiert und bietet Rock-Musik in Open-Air-Atm
 osphäre.
GEO:50.161994;8.958648
LAST-MODIFIED:20260420T175729Z
LOCATION:Fußballzentrum Fliegerhorst\, 63526\, Erlensee
STATUS:CONFIRMED
URL:https://kulvio.de/event/2837
END:VEVENT
END:VCALENDAR
