BEGIN:VCALENDAR
VERSION:2.0
PRODID:-//Kulvio Event Calendar//kulvio.de//
CALSCALE:GREGORIAN
METHOD:PUBLISH
BEGIN:VEVENT
SUMMARY:Erlensee Rockt Open Air Festival - Samstag
DTSTART:20260711T120000Z
DTEND:20260711T215900Z
DTSTAMP:20260421T042435Z
UID:kulvio-event-2838@kulvio.de
CATEGORIES:Festival,Open-Air
CREATED:20260419T160523Z
DESCRIPTION:Am zweiten Tag des Erlensee Rockt Open Air Festivals stehen we
 itere Tribute-Bands auf den zwei Bühnen am Fußballzentrum. Die Headliner
  des Samstags sind die italienische Band S.A.D. mit Metallica Symphonie un
 d ein 19-köpfiges Symphonieorchester sowie die Hard-Rock-Band Castle Dice
  aus Hessen. Dazu kommen In Temptation und Ozzy Rebourne auf die Bühne.
GEO:50.161994;8.958648
LAST-MODIFIED:20260420T175730Z
LOCATION:Fußballzentrum Fliegerhorst\, 63526\, Erlensee
STATUS:CONFIRMED
URL:https://kulvio.de/event/2838
END:VEVENT
END:VCALENDAR
