BEGIN:VCALENDAR
VERSION:2.0
PRODID:-//Kulvio Event Calendar//kulvio.de//
CALSCALE:GREGORIAN
METHOD:PUBLISH
BEGIN:VEVENT
SUMMARY:Noche Flamenca in der Wasserburg
DTSTART:20260912T180000Z
DTEND:20260912T203000Z
DTSTAMP:20260421T041937Z
UID:kulvio-event-2839@kulvio.de
CATEGORIES:Show,Tanz
CREATED:20260419T160523Z
DESCRIPTION:Der Verein Pena La Buleria präsentiert einen spanischen Abend
  in der historischen Wasserburg Erlensee-Rückingen. Unter dem Titel Noche
  Flamenca erleben die Gäste authentischen Flamenco mit Tanz\, Gesang und 
 Gitarrenmusik. Die Veranstaltung ist Teil der Erlenseer Kulturnächte 2026
 .
GEO:50.15529;8.990446
LAST-MODIFIED:20260419T160815Z
LOCATION:Historische Wasserburg Erlensee\, An der Wasserburg 1\, 63526\, E
 rlensee
STATUS:CONFIRMED
URL:https://kulvio.de/event/2839
END:VEVENT
END:VCALENDAR
