BEGIN:VCALENDAR
VERSION:2.0
PRODID:-//Kulvio Event Calendar//kulvio.de//
CALSCALE:GREGORIAN
METHOD:PUBLISH
BEGIN:VEVENT
SUMMARY:Lisa Fitz: Heimleuchten
DTSTART:20260926T180000Z
DTEND:20260926T203000Z
DTSTAMP:20260421T042123Z
UID:kulvio-event-2840@kulvio.de
CATEGORIES:Kabarett
CREATED:20260419T160523Z
DESCRIPTION:Die Kabarettistin Lisa Fitz gastiert mit ihrem Programm Heimle
 uchten in der Erlenhalle. Die bayerische Künstlerin ist seit Jahrzehnten 
 eine feste Größe im deutschsprachigen Kabarett und nimmt in ihrem aktuel
 len Programm gesellschaftliche und politische Themen aufs Korn. Der Abend 
 in der Erlenhalle ist Teil der Erlenseer Kulturnächte 2026.
GEO:50.164122;8.985384
LAST-MODIFIED:20260419T160815Z
LOCATION:Erlenhalle\, Am Rathaus 20\, 63526\, Erlensee
STATUS:CONFIRMED
URL:https://kulvio.de/event/2840
END:VEVENT
END:VCALENDAR
