BEGIN:VCALENDAR
VERSION:2.0
PRODID:-//Kulvio Event Calendar//kulvio.de//
CALSCALE:GREGORIAN
METHOD:PUBLISH
BEGIN:VEVENT
SUMMARY:Historischer Weihnachtsmarkt Erlensee - Samstag
DTSTART:20261205T130000Z
DTEND:20261205T210000Z
DTSTAMP:20260421T042006Z
UID:kulvio-event-2841@kulvio.de
CATEGORIES:Weihnachtsmarkt
CREATED:20260419T160523Z
DESCRIPTION:Der historische Weihnachtsmarkt in der Wasserburg Erlensee-Rü
 ckingen öffnet am zweiten Adventswochenende seine Stände. Am Samstag kö
 nnen Besucher von 14 bis 22 Uhr Kunsthandwerk\, Glühwein und weihnachtlic
 he Spezialitäten in der Kulisse der mittelalterlichen Wasserburg genieße
 n. Der Markt bietet Mitmachaktionen und ein Programm für Kinder.
GEO:50.15529;8.990446
LAST-MODIFIED:20260419T160815Z
LOCATION:Historische Wasserburg Erlensee\, An der Wasserburg 1\, 63526\, E
 rlensee
STATUS:CONFIRMED
URL:https://kulvio.de/event/2841
END:VEVENT
END:VCALENDAR
