BEGIN:VCALENDAR
VERSION:2.0
PRODID:-//Kulvio Event Calendar//kulvio.de//
CALSCALE:GREGORIAN
METHOD:PUBLISH
BEGIN:VEVENT
SUMMARY:Historischer Weihnachtsmarkt Erlensee - Sonntag
DTSTART:20261206T100000Z
DTEND:20261206T180000Z
DTSTAMP:20260421T042808Z
UID:kulvio-event-2842@kulvio.de
CATEGORIES:Weihnachtsmarkt
CREATED:20260419T160523Z
DESCRIPTION:Am Sonntag geht der historische Weihnachtsmarkt in der Wasserb
 urg Erlensee-Rückingen in die zweite Runde. Von 11 bis 19 Uhr laden die S
 tände im Innenhof der mittelalterlichen Burg zu einem vorweihnachtlichen 
 Bummel ein. Regionale Aussteller präsentieren handgefertigte Geschenkidee
 n und Dekorationen.
GEO:50.15529;8.990446
LAST-MODIFIED:20260419T160815Z
LOCATION:Historische Wasserburg Erlensee\, An der Wasserburg 1\, 63526\, E
 rlensee
STATUS:CONFIRMED
URL:https://kulvio.de/event/2842
END:VEVENT
END:VCALENDAR
