BEGIN:VCALENDAR
VERSION:2.0
PRODID:-//Kulvio Event Calendar//kulvio.de//
CALSCALE:GREGORIAN
METHOD:PUBLISH
BEGIN:VEVENT
SUMMARY:Krotzebojer Kerb - Freitag
DTSTART:20260911T150000Z
DTEND:20260911T215900Z
DTSTAMP:20260421T035134Z
UID:kulvio-event-2843@kulvio.de
CATEGORIES:Stadtfest,Tradition
CREATED:20260419T160535Z
DESCRIPTION:Die Krotzebojer Kerb eröffnet am Freitagabend auf dem Festpla
 tz in Großkrotzenburg. Ab 17 Uhr beginnt der traditionelle Kerb-Dämmersc
 hoppen am NABU-Vereinshaus am Bahnhof mit hessischen Spezialitäten und Ä
 pfelwein. Um 18 Uhr öffnet das Festzelt auf dem Festplatz\, wo ab 20 Uhr 
 eine Live-Band für Stimmung sorgt. Der Eintritt ist an allen Tagen frei.
GEO:50.082641;8.983738
LAST-MODIFIED:20260420T175738Z
LOCATION:Festplatz\, 63538\, Großkrotzenburg
STATUS:CONFIRMED
URL:https://kulvio.de/event/2843
END:VEVENT
END:VCALENDAR
