BEGIN:VCALENDAR
VERSION:2.0
PRODID:-//Kulvio Event Calendar//kulvio.de//
CALSCALE:GREGORIAN
METHOD:PUBLISH
BEGIN:VEVENT
SUMMARY:Krotzebojer Kerb - Samstag
DTSTART:20260912T120000Z
DTEND:20260912T215900Z
DTSTAMP:20260421T034607Z
UID:kulvio-event-2844@kulvio.de
CATEGORIES:Stadtfest,Tradition
CREATED:20260419T160535Z
DESCRIPTION:Am Samstag erreicht die Krotzebojer Kerb ihren Höhepunkt. Um 
 14:30 Uhr startet der traditionelle Kerbumzug vom Heimatmuseum zum Festpla
 tz\, gefolgt vom Fassbieranstich und dem Anschnitt des Quetschekuchens im 
 Festzelt. Am Abend sorgt eine Live-Band für Partystimmung. Rund um das Fe
 stzelt gibt es Fahrgeschäfte und Karussells für die ganze Familie.
GEO:50.082641;8.983738
LAST-MODIFIED:20260420T175738Z
LOCATION:Festplatz\, 63538\, Großkrotzenburg
STATUS:CONFIRMED
URL:https://kulvio.de/event/2844
END:VEVENT
END:VCALENDAR
