BEGIN:VCALENDAR
VERSION:2.0
PRODID:-//Kulvio Event Calendar//kulvio.de//
CALSCALE:GREGORIAN
METHOD:PUBLISH
BEGIN:VEVENT
SUMMARY:Krotzebojer Kerb - Sonntag
DTSTART:20260913T080000Z
DTEND:20260913T180000Z
DTSTAMP:20260421T034608Z
UID:kulvio-event-2845@kulvio.de
CATEGORIES:Stadtfest,Tradition
CREATED:20260419T160535Z
DESCRIPTION:Am Sonntag klingt die Krotzebojer Kerb auf dem Festplatz in Gr
 oßkrotzenburg aus. Um 10 Uhr beginnt der Festgottesdienst im Zelt\, ab 11
  Uhr laden die Vereine zum Frühschoppen ein. Am Nachmittag stehen die tra
 ditionellen Highland Games auf dem Programm\, bei denen Teams in verschied
 enen Disziplinen gegeneinander antreten. Die Fahrgeschäfte rund um das Fe
 stzelt sind auch am Sonntag in Betrieb.
GEO:50.082641;8.983738
LAST-MODIFIED:20260420T175738Z
LOCATION:Festplatz\, 63538\, Großkrotzenburg
STATUS:CONFIRMED
URL:https://kulvio.de/event/2845
END:VEVENT
END:VCALENDAR
