BEGIN:VCALENDAR
VERSION:2.0
PRODID:-//Kulvio Event Calendar//kulvio.de//
CALSCALE:GREGORIAN
METHOD:PUBLISH
BEGIN:VEVENT
SUMMARY:Maifest mit Maibaumstellen in Langen-Bergheim
DTSTART:20260501T080000Z
DTEND:20260501T160000Z
DTSTAMP:20260421T042311Z
UID:kulvio-event-2846@kulvio.de
CATEGORIES:Stadtfest,Tradition
CREATED:20260419T160548Z
DESCRIPTION:Am 1. Mai wird auf dem Dorfplatz in Langen-Bergheim der tradit
 ionelle Maibaum aufgestellt. Ab 10 Uhr beginnt das Maibaumstellen\, um 10:
 30 Uhr startet das anschließende Maifest mit Speisen und Getränken der 
 örtlichen Vereine. Das Fest auf dem Dorfplatz des Hammersbacher Ortsteils
  lädt Familien und Nachbarn zum gemeinsamen Feiern in den Frühling ein.
GEO:50.235526;8.999235
LAST-MODIFIED:20260420T175722Z
LOCATION:Dorfplatz Langen-Bergheim\, 63546\, Hammersbach
STATUS:CONFIRMED
URL:https://kulvio.de/event/2846
END:VEVENT
END:VCALENDAR
