BEGIN:VCALENDAR
VERSION:2.0
PRODID:-//Kulvio Event Calendar//kulvio.de//
CALSCALE:GREGORIAN
METHOD:PUBLISH
BEGIN:VEVENT
SUMMARY:Hanauer Lamboyfest - Freitag
DTSTART:20260612T150000Z
DTEND:20260612T215900Z
DTSTAMP:20260421T034733Z
UID:kulvio-event-2848@kulvio.de
CATEGORIES:Stadtfest,Konzert
CREATED:20260419T160601Z
DESCRIPTION:Das Hanauer Lamboyfest eröffnet am Freitagabend in der histor
 ischen Altstadt. Auf mehreren Bühnen spielen Live-Bands aus verschiedenen
  Genres\, während Gastronomen aus der Region kulinarische Vielfalt bieten
 . Das dreitägige Fest erinnert an die Aufhebung der Belagerung der Stadt 
 vor über 380 Jahren und ist eine der größten Veranstaltungen in Hanau. 
 Der Eintritt ist frei.
GEO:50.130727;8.920241
LAST-MODIFIED:20260420T175725Z
LOCATION:Altstadt Hanau\, 63450\, Hanau
STATUS:CONFIRMED
URL:https://kulvio.de/event/2848
END:VEVENT
END:VCALENDAR
