BEGIN:VCALENDAR
VERSION:2.0
PRODID:-//Kulvio Event Calendar//kulvio.de//
CALSCALE:GREGORIAN
METHOD:PUBLISH
BEGIN:VEVENT
SUMMARY:Hanauer Lamboyfest - Samstag
DTSTART:20260613T100000Z
DTEND:20260613T215900Z
DTSTAMP:20260421T084539Z
UID:kulvio-event-2849@kulvio.de
CATEGORIES:Stadtfest,Konzert,Festival
CREATED:20260419T160601Z
DESCRIPTION:Am Samstag verwandelt das Lamboyfest die Hanauer Altstadt erne
 ut in eine große Festzone. Mehr als 70 Bands spielen auf vier Bühnen an 
 drei Tagen\, ergänzt durch das KEKS-Kinderfest mit Mitmachaktionen für d
 ie jüngsten Besucher. Die gastronomischen Angebote reichen von hessischen
  Spezialitäten bis zu internationaler Küche.
GEO:50.130727;8.920241
LAST-MODIFIED:20260420T175726Z
LOCATION:Altstadt Hanau\, 63450\, Hanau
STATUS:CONFIRMED
URL:https://kulvio.de/event/2849
END:VEVENT
END:VCALENDAR
