BEGIN:VCALENDAR
VERSION:2.0
PRODID:-//Kulvio Event Calendar//kulvio.de//
CALSCALE:GREGORIAN
METHOD:PUBLISH
BEGIN:VEVENT
SUMMARY:Hanauer Lamboyfest - Sonntag
DTSTART:20260614T090000Z
DTEND:20260614T200000Z
DTSTAMP:20260421T034733Z
UID:kulvio-event-2850@kulvio.de
CATEGORIES:Stadtfest,Konzert,Festival
CREATED:20260419T160601Z
DESCRIPTION:Am Sonntag klingt das Lamboyfest in der Hanauer Altstadt aus. 
 Das Programm auf den Bühnen setzt sich mit Live-Musik und Unterhaltung fo
 rt\, während Familien das KEKS-Kinderfest besuchen können. Das Lamboyfes
 t lockt jährlich über 35.000 Besucher in die Brüder-Grimm-Stadt und ist
  eine der traditionsreichsten Veranstaltungen der Region.
GEO:50.130727;8.920241
LAST-MODIFIED:20260420T175726Z
LOCATION:Altstadt Hanau\, 63450\, Hanau
STATUS:CONFIRMED
URL:https://kulvio.de/event/2850
END:VEVENT
END:VCALENDAR
