BEGIN:VCALENDAR
VERSION:2.0
PRODID:-//Kulvio Event Calendar//kulvio.de//
CALSCALE:GREGORIAN
METHOD:PUBLISH
BEGIN:VEVENT
SUMMARY:The BossHoss im Amphitheater Hanau
DTSTART:20260807T173000Z
DTEND:20260807T203000Z
DTSTAMP:20260421T042944Z
UID:kulvio-event-2851@kulvio.de
CATEGORIES:Konzert,Open-Air
CREATED:20260419T160601Z
DESCRIPTION:Die deutsch-amerikanische Country-Rock-Band The BossHoss gasti
 ert im Amphitheater Hanau am Schloss Philippsruhe. Die Band um Alec Völke
 l und Sascha Vollmer bringt ihre Mischung aus Rock\, Country und Pop auf d
 ie überdachte Open-Air-Bühne. Das Amphitheater bietet Platz für bis zu 
 2.800 Zuschauer und ist bei Regen durch das charakteristische Mantadach ge
 schützt.
GEO:50.127432;8.89398
LAST-MODIFIED:20260419T160815Z
LOCATION:Amphitheater Hanau\, Philippsruher Allee 45\, 63454\, Hanau
STATUS:CONFIRMED
URL:https://kulvio.de/event/2851
END:VEVENT
END:VCALENDAR
