BEGIN:VCALENDAR
VERSION:2.0
PRODID:-//Kulvio Event Calendar//kulvio.de//
CALSCALE:GREGORIAN
METHOD:PUBLISH
BEGIN:VEVENT
SUMMARY:Culcha Candela im Amphitheater Hanau
DTSTART:20260808T173000Z
DTEND:20260808T203000Z
DTSTAMP:20260421T042123Z
UID:kulvio-event-2852@kulvio.de
CATEGORIES:Konzert,Open-Air
CREATED:20260419T160601Z
DESCRIPTION:Die Berliner Band Culcha Candela bringt ihren Mix aus Dancehal
 l\, Reggae und Pop ins Amphitheater Hanau. Die Formation ist bekannt für 
 Hits wie Hamma und Monsta und sorgt mit energiegeladenen Live-Shows für P
 artystimmung. Das Konzert findet im Rahmen des Konzert-Sommers am Schloss 
 Philippsruhe statt.
GEO:50.127432;8.89398
LAST-MODIFIED:20260419T160815Z
LOCATION:Amphitheater Hanau\, Philippsruher Allee 45\, 63454\, Hanau
STATUS:CONFIRMED
URL:https://kulvio.de/event/2852
END:VEVENT
END:VCALENDAR
