BEGIN:VCALENDAR
VERSION:2.0
PRODID:-//Kulvio Event Calendar//kulvio.de//
CALSCALE:GREGORIAN
METHOD:PUBLISH
BEGIN:VEVENT
SUMMARY:LaBrassBanda im Amphitheater Hanau
DTSTART:20260809T170000Z
DTEND:20260809T200000Z
DTSTAMP:20260421T042120Z
UID:kulvio-event-2853@kulvio.de
CATEGORIES:Konzert,Open-Air
CREATED:20260419T160602Z
DESCRIPTION:Die bayerische Brass-Band LaBrassBanda gastiert im Amphitheate
 r Hanau am Schloss Philippsruhe. Die Band verbindet traditionelle Blasmusi
 k mit Techno\, Ska und Balkan-Beats und ist für ihre ausgelassenen Live-A
 uftritte bekannt. Das Open-Air-Konzert verspricht einen energiegeladenen S
 ommerabend im Schlosspark.
GEO:50.127432;8.89398
LAST-MODIFIED:20260419T160815Z
LOCATION:Amphitheater Hanau\, Philippsruher Allee 45\, 63454\, Hanau
STATUS:CONFIRMED
URL:https://kulvio.de/event/2853
END:VEVENT
END:VCALENDAR
