BEGIN:VCALENDAR
VERSION:2.0
PRODID:-//Kulvio Event Calendar//kulvio.de//
CALSCALE:GREGORIAN
METHOD:PUBLISH
BEGIN:VEVENT
SUMMARY:The Wailers im Amphitheater Hanau
DTSTART:20260810T173000Z
DTEND:20260810T203000Z
DTSTAMP:20260421T043142Z
UID:kulvio-event-2854@kulvio.de
CATEGORIES:Konzert,Open-Air
CREATED:20260419T160602Z
DESCRIPTION:The Wailers\, die legendäre Reggae-Band um Bob Marleys musika
 lisches Erbe\, treten im Amphitheater Hanau auf. Die Gruppe bringt die zei
 tlosen Songs von Bob Marley and The Wailers auf die Open-Air-Bühne am Sch
 loss Philippsruhe. Das Konzert ist Teil des Hanauer Konzert-Sommers 2026.
GEO:50.127432;8.89398
LAST-MODIFIED:20260419T160815Z
LOCATION:Amphitheater Hanau\, Philippsruher Allee 45\, 63454\, Hanau
STATUS:CONFIRMED
URL:https://kulvio.de/event/2854
END:VEVENT
END:VCALENDAR
