BEGIN:VCALENDAR
VERSION:2.0
PRODID:-//Kulvio Event Calendar//kulvio.de//
CALSCALE:GREGORIAN
METHOD:PUBLISH
BEGIN:VEVENT
SUMMARY:OMD im Amphitheater Hanau
DTSTART:20260811T173000Z
DTEND:20260811T203000Z
DTSTAMP:20260421T042429Z
UID:kulvio-event-2855@kulvio.de
CATEGORIES:Konzert,Open-Air
CREATED:20260419T160602Z
DESCRIPTION:Die britische Synthie-Pop-Band Orchestral Manoeuvres in the Da
 rk gastiert im Amphitheater Hanau. OMD prägten mit Hits wie Enola Gay und
  Electricity die elektronische Musik der 1980er Jahre. Das Konzert im Rahm
 en des Konzert-Sommers findet auf der überdachten Open-Air-Bühne am Schl
 oss Philippsruhe statt.
GEO:50.127432;8.89398
LAST-MODIFIED:20260419T160815Z
LOCATION:Amphitheater Hanau\, Philippsruher Allee 45\, 63454\, Hanau
STATUS:CONFIRMED
URL:https://kulvio.de/event/2855
END:VEVENT
END:VCALENDAR
