BEGIN:VCALENDAR
VERSION:2.0
PRODID:-//Kulvio Event Calendar//kulvio.de//
CALSCALE:GREGORIAN
METHOD:PUBLISH
BEGIN:VEVENT
SUMMARY:Helge Schneider im Amphitheater Hanau
DTSTART:20260818T173000Z
DTEND:20260818T200000Z
DTSTAMP:20260421T042434Z
UID:kulvio-event-2856@kulvio.de
CATEGORIES:Comedy,Konzert
CREATED:20260419T160602Z
DESCRIPTION:Der Komiker und Musiker Helge Schneider bringt seine unverwech
 selbare Mischung aus Comedy und Musik ins Amphitheater Hanau. Der vielseit
 ige Entertainer improvisiert\, singt und spielt verschiedene Instrumente i
 n seiner einzigartigen Show. Das Amphitheater am Schloss Philippsruhe biet
 et den passenden Rahmen für einen unterhaltsamen Sommerabend.
GEO:50.127432;8.89398
LAST-MODIFIED:20260419T160815Z
LOCATION:Amphitheater Hanau\, Philippsruher Allee 45\, 63454\, Hanau
STATUS:CONFIRMED
URL:https://kulvio.de/event/2856
END:VEVENT
END:VCALENDAR
