BEGIN:VCALENDAR
VERSION:2.0
PRODID:-//Kulvio Event Calendar//kulvio.de//
CALSCALE:GREGORIAN
METHOD:PUBLISH
BEGIN:VEVENT
SUMMARY:Bonnie Tyler im Amphitheater Hanau
DTSTART:20260825T173000Z
DTEND:20260825T203000Z
DTSTAMP:20260421T042503Z
UID:kulvio-event-2857@kulvio.de
CATEGORIES:Konzert,Open-Air
CREATED:20260419T160602Z
DESCRIPTION:Die walisische Rocksängerin Bonnie Tyler gastiert im Amphithe
 ater Hanau am Schloss Philippsruhe. Die Sängerin ist weltweit bekannt fü
 r Hits wie Total Eclipse of the Heart und Holding Out for a Hero. Das Open
 -Air-Konzert im Hanauer Schlosspark ist Teil des Konzert-Sommers 2026.
GEO:50.127432;8.89398
LAST-MODIFIED:20260419T160815Z
LOCATION:Amphitheater Hanau\, Philippsruher Allee 45\, 63454\, Hanau
STATUS:CONFIRMED
URL:https://kulvio.de/event/2857
END:VEVENT
END:VCALENDAR
