BEGIN:VCALENDAR
VERSION:2.0
PRODID:-//Kulvio Event Calendar//kulvio.de//
CALSCALE:GREGORIAN
METHOD:PUBLISH
BEGIN:VEVENT
SUMMARY:In Extremo im Amphitheater Hanau
DTSTART:20260911T170000Z
DTEND:20260911T200000Z
DTSTAMP:20260421T043152Z
UID:kulvio-event-2858@kulvio.de
CATEGORIES:Konzert,Open-Air
CREATED:20260419T160602Z
DESCRIPTION:Die Mittelalter-Rock-Band In Extremo gastiert im Amphitheater 
 Hanau. Die Berliner Band verbindet seit über 25 Jahren mittelalterliche I
 nstrumente wie Dudelsack und Schalmei mit modernem Rock und gehört zu den
  erfolgreichsten deutschen Bands ihres Genres. Das Konzert am Schloss Phil
 ippsruhe ist eines der letzten Events des Konzert-Sommers 2026.
GEO:50.127432;8.89398
LAST-MODIFIED:20260419T160815Z
LOCATION:Amphitheater Hanau\, Philippsruher Allee 45\, 63454\, Hanau
STATUS:CONFIRMED
URL:https://kulvio.de/event/2858
END:VEVENT
END:VCALENDAR
