BEGIN:VCALENDAR
VERSION:2.0
PRODID:-//Kulvio Event Calendar//kulvio.de//
CALSCALE:GREGORIAN
METHOD:PUBLISH
BEGIN:VEVENT
SUMMARY:Manfred Mann's Earth Band im Amphitheater Hanau
DTSTART:20260912T173000Z
DTEND:20260912T203000Z
DTSTAMP:20260421T042425Z
UID:kulvio-event-2859@kulvio.de
CATEGORIES:Konzert,Open-Air
CREATED:20260419T160602Z
DESCRIPTION:Manfred Mann's Earth Band bringt ihre Mischung aus Progressive
  Rock und Blues ins Amphitheater Hanau. Die Band um den südafrikanischen 
 Musiker Manfred Mann ist seit den 1970er Jahren eine feste Größe der Roc
 kmusik und bekannt für Hits wie Blinded by the Light. Das Konzert findet 
 auf der Open-Air-Bühne am Schloss Philippsruhe statt.
GEO:50.127432;8.89398
LAST-MODIFIED:20260419T160815Z
LOCATION:Amphitheater Hanau\, Philippsruher Allee 45\, 63454\, Hanau
STATUS:CONFIRMED
URL:https://kulvio.de/event/2859
END:VEVENT
END:VCALENDAR
