BEGIN:VCALENDAR
VERSION:2.0
PRODID:-//Kulvio Event Calendar//kulvio.de//
CALSCALE:GREGORIAN
METHOD:PUBLISH
BEGIN:VEVENT
SUMMARY:Märchenhafter Weihnachtsmarkt Hanau - Eröffnung
DTSTART:20261123T100000Z
DTEND:20261123T200000Z
DTSTAMP:20260421T041932Z
UID:kulvio-event-2863@kulvio.de
CATEGORIES:Weihnachtsmarkt
CREATED:20260419T160602Z
DESCRIPTION:Der märchenhafte Weihnachtsmarkt auf dem Hanauer Marktplatz e
 röffnet am 23. November die Adventszeit in der Brüder-Grimm-Stadt. Mehr 
 als 75 Verkaufs- und Gastronomiestände bieten Kunsthandwerk\, Glühwein u
 nd weihnachtliche Spezialitäten an. Der Markt läuft bis zum 22. Dezember
  täglich von 11 bis 21 Uhr und zählt zu den größten Weihnachtsmärkten
  in der Region.
GEO:50.1324;8.917379
LAST-MODIFIED:20260420T175952Z
LOCATION:Marktplatz\, 63450\, Hanau
STATUS:CONFIRMED
URL:https://kulvio.de/event/2863
END:VEVENT
END:VCALENDAR
