BEGIN:VCALENDAR
VERSION:2.0
PRODID:-//Kulvio Event Calendar//kulvio.de//
CALSCALE:GREGORIAN
METHOD:PUBLISH
BEGIN:VEVENT
SUMMARY:11. Langenselbolder Chorfestival mit The King's Singers
DTSTART:20260425T180000Z
DTEND:20260425T203000Z
DTSTAMP:20260421T042008Z
UID:kulvio-event-2864@kulvio.de
CATEGORIES:Konzert
CREATED:20260419T161217Z
DESCRIPTION:Das 11. Langenselbolder Chorfestival präsentiert die weltber
 ühmten The King's Singers in der Klosterberghalle. Das britische A-cappel
 la-Sextett begeistert seit über 50 Jahren mit einem Repertoire von Renais
 sance über Romantik bis hin zu Jazz und Pop. Unter dem Titel Close Harmon
 y erleben die Gäste Weltklasse-Vokalmusik ohne Instrumente. Tickets sind 
 in drei Preiskategorien erhältlich\, Einlass ist ab 19 Uhr.
GEO:50.172821;9.037121
LAST-MODIFIED:20260419T163353Z
LOCATION:Klosterberghalle\, Schloßstraße 2\, 63505\, Langenselbold
STATUS:CONFIRMED
URL:https://kulvio.de/event/2864
END:VEVENT
END:VCALENDAR
