BEGIN:VCALENDAR
VERSION:2.0
PRODID:-//Kulvio Event Calendar//kulvio.de//
CALSCALE:GREGORIAN
METHOD:PUBLISH
BEGIN:VEVENT
SUMMARY:Dehaam-Markt im Schloßpark Langenselbold
DTSTART:20260607T080000Z
DTEND:20260607T160000Z
DTSTAMP:20260421T042008Z
UID:kulvio-event-2865@kulvio.de
CATEGORIES:Saisonmarkt
CREATED:20260419T161217Z
DESCRIPTION:Der Dehaam-Markt verwandelt den Langenselbolder Schloßpark in
  einen regionalen Erlebnismarkt. Von 10 bis 18 Uhr präsentieren Ausstelle
 r aus der Region Kunsthandwerk\, kulinarische Spezialitäten und regionale
  Produkte in der Kulisse des historischen Parks. Auf der Bühne sorgt Live
 -Musik für Unterhaltung\, während Kinder ein eigenes Programm erwartet. 
 Der Eintritt ist frei.
GEO:50.174764;9.037851
LAST-MODIFIED:20260419T163353Z
LOCATION:Schloßpark\, 63505\, Langenselbold
STATUS:CONFIRMED
URL:https://kulvio.de/event/2865
END:VEVENT
END:VCALENDAR
