BEGIN:VCALENDAR
VERSION:2.0
PRODID:-//Kulvio Event Calendar//kulvio.de//
CALSCALE:GREGORIAN
METHOD:PUBLISH
BEGIN:VEVENT
SUMMARY:HGV Weindorf am Marktplatz - Freitag
DTSTART:20260612T140000Z
DTEND:20260612T200000Z
DTSTAMP:20260421T042503Z
UID:kulvio-event-2866@kulvio.de
CATEGORIES:Tasting,Stadtfest
CREATED:20260419T161217Z
DESCRIPTION:Das HGV Weindorf eröffnet am Freitagabend auf dem Langenselbo
 lder Marktplatz das Erdbeersonntag-Wochenende. Der Handwerker- und Gewerbe
 verein Langenselbold lädt zu Wein\, Live-Musik und regionalen Speisen unt
 er freiem Himmel ein. Das Weindorf bildet den Auftakt für das beliebte Wo
 chenende mit dem verkaufsoffenen Erdbeersonntag am darauffolgenden Tag.
GEO:50.18167;9.043049
LAST-MODIFIED:20260419T163353Z
LOCATION:Marktplatz\, 63505\, Langenselbold
STATUS:CONFIRMED
URL:https://kulvio.de/event/2866
END:VEVENT
END:VCALENDAR
