BEGIN:VCALENDAR
VERSION:2.0
PRODID:-//Kulvio Event Calendar//kulvio.de//
CALSCALE:GREGORIAN
METHOD:PUBLISH
BEGIN:VEVENT
SUMMARY:HGV Weindorf am Marktplatz - Samstag
DTSTART:20260613T100000Z
DTEND:20260613T200000Z
DTSTAMP:20260421T042121Z
UID:kulvio-event-2867@kulvio.de
CATEGORIES:Tasting,Stadtfest
CREATED:20260419T161217Z
DESCRIPTION:Am Samstag geht das HGV Weindorf auf dem Langenselbolder Markt
 platz in die zweite Runde. Der Handwerker- und Gewerbeverein bietet erneut
  Wein\, kulinarische Spezialitäten und Live-Musik auf dem zentralen Platz
  der Stadt. Das Weindorf ist Teil des traditionellen Erdbeersonntag-Wochen
 endes\, das seit Jahren Besucher aus der Region anzieht.
GEO:50.18167;9.043049
LAST-MODIFIED:20260419T163353Z
LOCATION:Marktplatz\, 63505\, Langenselbold
STATUS:CONFIRMED
URL:https://kulvio.de/event/2867
END:VEVENT
END:VCALENDAR
