BEGIN:VCALENDAR
VERSION:2.0
PRODID:-//Kulvio Event Calendar//kulvio.de//
CALSCALE:GREGORIAN
METHOD:PUBLISH
BEGIN:VEVENT
SUMMARY:Erdbeersonntag mit Weindorf in Langenselbold
DTSTART:20260614T100000Z
DTEND:20260614T160000Z
DTSTAMP:20260421T043152Z
UID:kulvio-event-2868@kulvio.de
CATEGORIES:Stadtfest,Saisonmarkt
CREATED:20260419T161217Z
DESCRIPTION:Der Langenselbolder Erdbeersonntag lockt mit einem verkaufsoff
 enen Sonntag und dem gleichzeitigen Weindorf auf dem Marktplatz zahlreiche
  Besucher in die Innenstadt. Von 12 bis 18 Uhr bieten die Selbolder Gewerb
 etreibenden und Vereine Aktionen\, Erdbeerspezialitäten und regionale Ang
 ebote an. Eine Miniaturbahn fährt durch die Straßen und sorgt für Unter
 haltung bei Familien.
GEO:50.18167;9.043049
LAST-MODIFIED:20260419T163353Z
LOCATION:Marktplatz\, 63505\, Langenselbold
STATUS:CONFIRMED
URL:https://kulvio.de/event/2868
END:VEVENT
END:VCALENDAR
