BEGIN:VCALENDAR
VERSION:2.0
PRODID:-//Kulvio Event Calendar//kulvio.de//
CALSCALE:GREGORIAN
METHOD:PUBLISH
BEGIN:VEVENT
SUMMARY:12. Langenselbolder Weintage - Donnerstag
DTSTART:20260827T150000Z
DTEND:20260827T215900Z
DTSTAMP:20260421T042005Z
UID:kulvio-event-2869@kulvio.de
CATEGORIES:Tasting,Open-Air
CREATED:20260419T161217Z
DESCRIPTION:Die 12. Langenselbolder Weintage laden ab 17 Uhr in den Schlo
 ßpark ein. Winzer aus verschiedenen deutschen Anbaugebieten und ausgewäh
 lte europäische Weingüter präsentieren ihre Weine\, Sekte und Spirituos
 en. Dazu gibt es Fischspezialitäten\, Flammkuchen\, Burger und weitere ku
 linarische Angebote. Ab dem Abend sorgt Live-Musik für Stimmung im festli
 ch beleuchteten Schloßpark.
GEO:50.174764;9.037851
LAST-MODIFIED:20260419T163353Z
LOCATION:Schloßpark\, 63505\, Langenselbold
STATUS:CONFIRMED
URL:https://kulvio.de/event/2869
END:VEVENT
END:VCALENDAR
