BEGIN:VCALENDAR
VERSION:2.0
PRODID:-//Kulvio Event Calendar//kulvio.de//
CALSCALE:GREGORIAN
METHOD:PUBLISH
BEGIN:VEVENT
SUMMARY:12. Langenselbolder Weintage - Samstag
DTSTART:20260829T150000Z
DTEND:20260829T215900Z
DTSTAMP:20260421T042004Z
UID:kulvio-event-2871@kulvio.de
CATEGORIES:Tasting,Open-Air
CREATED:20260419T161217Z
DESCRIPTION:Der Samstag der 12. Langenselbolder Weintage zieht traditionel
 l die meisten Besucher in den Schloßpark. Ab 17 Uhr präsentieren die tei
 lnehmenden Winzer ihre Erzeugnisse und die Gastronomiestände bieten eine 
 breite Auswahl an Speisen. Das abendliche Live-Musikprogramm lädt zum Ver
 weilen im festlich beleuchteten Park bis Mitternacht ein.
GEO:50.174764;9.037851
LAST-MODIFIED:20260419T163353Z
LOCATION:Schloßpark\, 63505\, Langenselbold
STATUS:CONFIRMED
URL:https://kulvio.de/event/2871
END:VEVENT
END:VCALENDAR
