BEGIN:VCALENDAR
VERSION:2.0
PRODID:-//Kulvio Event Calendar//kulvio.de//
CALSCALE:GREGORIAN
METHOD:PUBLISH
BEGIN:VEVENT
SUMMARY:12. Langenselbolder Weintage - Sonntag
DTSTART:20260830T150000Z
DTEND:20260830T215900Z
DTSTAMP:20260421T042007Z
UID:kulvio-event-2872@kulvio.de
CATEGORIES:Tasting,Open-Air
CREATED:20260419T161217Z
DESCRIPTION:Am Sonntag der 12. Langenselbolder Weintage geht das Weinfest 
 im Schloßpark in die vierte Runde. Ab 17 Uhr können Besucher bei den Win
 zern Weine aus deutschen Anbaugebieten und europäischen Weingütern verko
 sten. Die kulinarischen Stände bieten Grillspezialitäten\, Burger und re
 gionale Leckereien. Live-Musik begleitet den Abend bis Mitternacht.
GEO:50.174764;9.037851
LAST-MODIFIED:20260419T163353Z
LOCATION:Schloßpark\, 63505\, Langenselbold
STATUS:CONFIRMED
URL:https://kulvio.de/event/2872
END:VEVENT
END:VCALENDAR
