BEGIN:VCALENDAR
VERSION:2.0
PRODID:-//Kulvio Event Calendar//kulvio.de//
CALSCALE:GREGORIAN
METHOD:PUBLISH
BEGIN:VEVENT
SUMMARY:12. Langenselbolder Weintage - Montag
DTSTART:20260831T150000Z
DTEND:20260831T215900Z
DTSTAMP:20260421T042009Z
UID:kulvio-event-2873@kulvio.de
CATEGORIES:Tasting,Open-Air
CREATED:20260419T161217Z
DESCRIPTION:Am letzten Tag der 12. Langenselbolder Weintage klingt das fü
 nftägige Weinfest im Schloßpark aus. Ab 17 Uhr laden die Weinstände und
  Gastronomiebetriebe ein letztes Mal zum gemütlichen Beisammensein ein. D
 ie Winzer bieten ihre verbliebenen Weine und Sekte zum Probieren an\, wäh
 rend das Live-Musikprogramm den Abschluss der Weintage feierlich gestaltet
 .
GEO:50.174764;9.037851
LAST-MODIFIED:20260419T163353Z
LOCATION:Schloßpark\, 63505\, Langenselbold
STATUS:CONFIRMED
URL:https://kulvio.de/event/2873
END:VEVENT
END:VCALENDAR
