BEGIN:VCALENDAR
VERSION:2.0
PRODID:-//Kulvio Event Calendar//kulvio.de//
CALSCALE:GREGORIAN
METHOD:PUBLISH
BEGIN:VEVENT
SUMMARY:Highlandgames 2026 - Das große Familienfest
DTSTART:20260906T090000Z
DTEND:20260906T160000Z
DTSTAMP:20260421T042122Z
UID:kulvio-event-2874@kulvio.de
CATEGORIES:Wettkampf,Spielfest
CREATED:20260419T161217Z
DESCRIPTION:Die Highlandgames kehren nach einer Pause im Vorjahr zurück i
 n den Langenselbolder Schlosspark. Das große Familienfest der Selbolder N
 arren und des TV Langenselbold bietet traditionelle schottische Diszipline
 n wie Bierfasswerfen und Teamwettbewerbe. Teams aus bis zu vier Personen t
 reten in verschiedenen Kategorien gegeneinander an. Das Fest richtet sich 
 an die ganze Familie.
GEO:50.174764;9.037851
LAST-MODIFIED:20260419T163353Z
LOCATION:Schloßpark\, 63505\, Langenselbold
STATUS:CONFIRMED
URL:https://kulvio.de/event/2874
END:VEVENT
END:VCALENDAR
