BEGIN:VCALENDAR
VERSION:2.0
PRODID:-//Kulvio Event Calendar//kulvio.de//
CALSCALE:GREGORIAN
METHOD:PUBLISH
BEGIN:VEVENT
SUMMARY:Selbold Klassik - Konzert am Freitag
DTSTART:20261023T173000Z
DTEND:20261023T200000Z
DTSTAMP:20260421T042312Z
UID:kulvio-event-2875@kulvio.de
CATEGORIES:Konzert
CREATED:20260419T161217Z
DESCRIPTION:Das Kammermusikfestival Selbold Klassik eröffnet seine fünft
 e Ausgabe am Freitagabend in der Klosterberghalle Langenselbold. Unter der
  künstlerischen Leitung des Klarinettisten Ib Hausmann präsentieren inte
 rnationale Ensembles Meisterwerke der Kammermusik. Das Festival bietet an 
 drei Tagen ein Programm von Mozart und Schubert bis Ravel und Fauré.
GEO:50.172821;9.037121
LAST-MODIFIED:20260419T163353Z
LOCATION:Klosterberghalle\, Schloßstraße 2\, 63505\, Langenselbold
STATUS:CONFIRMED
URL:https://kulvio.de/event/2875
END:VEVENT
END:VCALENDAR
