BEGIN:VCALENDAR
VERSION:2.0
PRODID:-//Kulvio Event Calendar//kulvio.de//
CALSCALE:GREGORIAN
METHOD:PUBLISH
BEGIN:VEVENT
SUMMARY:Selbold Klassik - Konzert am Samstag
DTSTART:20261024T173000Z
DTEND:20261024T200000Z
DTSTAMP:20260421T042006Z
UID:kulvio-event-2876@kulvio.de
CATEGORIES:Konzert
CREATED:20260419T161218Z
DESCRIPTION:Am zweiten Abend des Kammermusikfestivals Selbold Klassik spie
 len preisgekrönte Ensembles in der Klosterberghalle. Das Quatuor Hanson u
 nd das Amatis Trio gehören zu den Künstlern\, die unter der künstlerisc
 hen Leitung von Ib Hausmann Werke von Haydn\, Weber und Chausson interpret
 ieren. Das Konzert verbindet bekannte Meisterwerke mit selten aufgeführte
 n Kompositionen.
GEO:50.172821;9.037121
LAST-MODIFIED:20260419T163353Z
LOCATION:Klosterberghalle\, Schloßstraße 2\, 63505\, Langenselbold
STATUS:CONFIRMED
URL:https://kulvio.de/event/2876
END:VEVENT
END:VCALENDAR
