BEGIN:VCALENDAR
VERSION:2.0
PRODID:-//Kulvio Event Calendar//kulvio.de//
CALSCALE:GREGORIAN
METHOD:PUBLISH
BEGIN:VEVENT
SUMMARY:Selbold Klassik - Sonntagskonzert
DTSTART:20261025T160000Z
DTEND:20261025T183000Z
DTSTAMP:20260421T034738Z
UID:kulvio-event-2877@kulvio.de
CATEGORIES:Konzert
CREATED:20260419T161218Z
DESCRIPTION:Das Kammermusikfestival Selbold Klassik schließt am Sonntagna
 chmittag mit dem dritten Konzert in der Klosterberghalle. Die internationa
 len Ensembles präsentieren unter der Leitung von Ib Hausmann ein Programm
  mit Werken der Klassik und Romantik. Das Matinee-Konzert beginnt um 17 Uh
 r und bietet einen stimmungsvollen Abschluss des dreitägigen Festivals.
GEO:50.172821;9.037121
LAST-MODIFIED:20260419T163353Z
LOCATION:Klosterberghalle\, Schloßstraße 2\, 63505\, Langenselbold
STATUS:CONFIRMED
URL:https://kulvio.de/event/2877
END:VEVENT
END:VCALENDAR
