BEGIN:VCALENDAR
VERSION:2.0
PRODID:-//Kulvio Event Calendar//kulvio.de//
CALSCALE:GREGORIAN
METHOD:PUBLISH
BEGIN:VEVENT
SUMMARY:Langenselbolder Weihnachtsmarkt - Freitag
DTSTART:20261127T150000Z
DTEND:20261127T210000Z
DTSTAMP:20260421T042433Z
UID:kulvio-event-2878@kulvio.de
CATEGORIES:Weihnachtsmarkt
CREATED:20260419T161218Z
DESCRIPTION:Der Langenselbolder Weihnachtsmarkt eröffnet am Freitagnachmi
 ttag im festlich geschmückten Schloßpark. Von 16 bis 22 Uhr bieten die S
 tände Kunsthandwerk\, weihnachtliche Spezialitäten und Glühwein in der 
 stimmungsvollen Kulisse des Parks. Ein Riesenrad und ein Kinderkarussell s
 orgen für Unterhaltung\, während auf der Bühne ein weihnachtliches Prog
 ramm geboten wird.
GEO:50.174764;9.037851
LAST-MODIFIED:20260419T163353Z
LOCATION:Schloßpark\, 63505\, Langenselbold
STATUS:CONFIRMED
URL:https://kulvio.de/event/2878
END:VEVENT
END:VCALENDAR
