BEGIN:VCALENDAR
VERSION:2.0
PRODID:-//Kulvio Event Calendar//kulvio.de//
CALSCALE:GREGORIAN
METHOD:PUBLISH
BEGIN:VEVENT
SUMMARY:Langenselbolder Weihnachtsmarkt - Samstag
DTSTART:20261128T130000Z
DTEND:20261128T210000Z
DTSTAMP:20260421T042006Z
UID:kulvio-event-2879@kulvio.de
CATEGORIES:Weihnachtsmarkt
CREATED:20260419T161218Z
DESCRIPTION:Am Samstag öffnet der Langenselbolder Weihnachtsmarkt im Schl
 oßpark bereits ab 14 Uhr seine Stände. Besucher können bis 22 Uhr durch
  die Marktstände mit Kunsthandwerk und weihnachtlichen Geschenkideen bumm
 eln. Eine Kunstausstellung\, ein Weihnachtscafé und das Bühnenprogramm e
 rgänzen das Angebot rund um Glühwein und festliche Kulinarik im historis
 chen Park.
GEO:50.174764;9.037851
LAST-MODIFIED:20260419T163353Z
LOCATION:Schloßpark\, 63505\, Langenselbold
STATUS:CONFIRMED
URL:https://kulvio.de/event/2879
END:VEVENT
END:VCALENDAR
