BEGIN:VCALENDAR
VERSION:2.0
PRODID:-//Kulvio Event Calendar//kulvio.de//
CALSCALE:GREGORIAN
METHOD:PUBLISH
BEGIN:VEVENT
SUMMARY:Langenselbolder Weihnachtsmarkt - Sonntag
DTSTART:20261129T110000Z
DTEND:20261129T190000Z
DTSTAMP:20260421T042122Z
UID:kulvio-event-2880@kulvio.de
CATEGORIES:Weihnachtsmarkt
CREATED:20260419T161218Z
DESCRIPTION:Am Sonntag lädt der Langenselbolder Weihnachtsmarkt ein letzt
 es Mal in den Schloßpark ein. Von 12 bis 20 Uhr können Familien die vorw
 eihnachtliche Atmosphäre mit Riesenrad\, Karussell und den Ständen der r
 egionalen Aussteller genießen. Das Bühnenprogramm und das Weihnachtscaf
 é runden den letzten Tag des dreitägigen Marktes stimmungsvoll ab.
GEO:50.174764;9.037851
LAST-MODIFIED:20260419T163353Z
LOCATION:Schloßpark\, 63505\, Langenselbold
STATUS:CONFIRMED
URL:https://kulvio.de/event/2880
END:VEVENT
END:VCALENDAR
