BEGIN:VCALENDAR
VERSION:2.0
PRODID:-//Kulvio Event Calendar//kulvio.de//
CALSCALE:GREGORIAN
METHOD:PUBLISH
BEGIN:VEVENT
SUMMARY:Vatertagstreff an der Dicken Buche
DTSTART:20260514T080000Z
DTEND:20260514T190000Z
DTSTAMP:20260421T084615Z
UID:kulvio-event-2881@kulvio.de
CATEGORIES:Stadtfest,Open-Air
CREATED:20260419T161231Z
DESCRIPTION:Am Vatertag lädt die Sportanlage Dicke Buche in Maintal-Dörn
 igheim zum traditionellen Vatertagstreff ein. Von 10 bis 21 Uhr erwarten d
 ie Besucher Speisen und Getränke auf dem Sportgelände der örtlichen Ver
 eine. Das Fest am Feiertag Christi Himmelfahrt ist seit Jahren ein beliebt
 er Treffpunkt für Familien und Ausflügler im Grünen.
GEO:50.137269;8.85807
LAST-MODIFIED:20260419T163353Z
LOCATION:Wilhelmsbader Straße 48\, 63477\, Maintal
STATUS:CONFIRMED
URL:https://kulvio.de/event/2881
END:VEVENT
END:VCALENDAR
