BEGIN:VCALENDAR
VERSION:2.0
PRODID:-//Kulvio Event Calendar//kulvio.de//
CALSCALE:GREGORIAN
METHOD:PUBLISH
BEGIN:VEVENT
SUMMARY:Rebenblütenfest am Winzerhof - Samstag
DTSTART:20260613T140000Z
DTEND:20260613T200000Z
DTSTAMP:20260421T042121Z
UID:kulvio-event-2882@kulvio.de
CATEGORIES:Tasting,Open-Air
CREATED:20260419T161231Z
DESCRIPTION:Das Rebenblütenfest am Winzerhof in Maintal-Hochstadt feiert 
 die Weinblüte mit einem Fest rund um den Wein. Ab 16 Uhr öffnet der Winz
 erhof an der Bischofsheimer Straße 9 seine Tore für Besucher\, die bis 2
 2 Uhr regionale Weine\, Speisen und Musik genießen können. Das zweitägi
 ge Fest im historischen Weinbaugebiet von Hochstadt ist ein fester Bestand
 teil des Maintaler Veranstaltungskalenders.
GEO:50.152593;8.830606
LAST-MODIFIED:20260419T163353Z
LOCATION:Winzerhof Hochstadt\, Bischofsheimer Straße 9\, 63477\, Maintal
STATUS:CONFIRMED
URL:https://kulvio.de/event/2882
END:VEVENT
END:VCALENDAR
