BEGIN:VCALENDAR
VERSION:2.0
PRODID:-//Kulvio Event Calendar//kulvio.de//
CALSCALE:GREGORIAN
METHOD:PUBLISH
BEGIN:VEVENT
SUMMARY:Rebenblütenfest am Winzerhof - Sonntag
DTSTART:20260614T090000Z
DTEND:20260614T160000Z
DTSTAMP:20260421T042009Z
UID:kulvio-event-2883@kulvio.de
CATEGORIES:Tasting,Open-Air
CREATED:20260419T161231Z
DESCRIPTION:Am Sonntag geht das Rebenblütenfest am Winzerhof in Maintal-H
 ochstadt weiter. Von 11 bis 18 Uhr erwartet die Besucher ein entspannter S
 onntag mit Weinverkostung und kulinarischen Angeboten auf dem Gelände des
  historischen Winzerhofs. Das Rebenblütenfest bietet einen stimmungsvolle
 n Rahmen für einen Ausflug ins Maintaler Weinbaugebiet.
GEO:50.152593;8.830606
LAST-MODIFIED:20260419T163353Z
LOCATION:Winzerhof Hochstadt\, Bischofsheimer Straße 9\, 63477\, Maintal
STATUS:CONFIRMED
URL:https://kulvio.de/event/2883
END:VEVENT
END:VCALENDAR
