BEGIN:VCALENDAR
VERSION:2.0
PRODID:-//Kulvio Event Calendar//kulvio.de//
CALSCALE:GREGORIAN
METHOD:PUBLISH
BEGIN:VEVENT
SUMMARY:Septemberfest in Maintal-Dörnigheim
DTSTART:20260912T130000Z
DTEND:20260912T215500Z
DTSTAMP:20260421T042308Z
UID:kulvio-event-2884@kulvio.de
CATEGORIES:Stadtfest,International
CREATED:20260419T161231Z
DESCRIPTION:Das Septemberfest im Evangelischen Gemeindezentrum Dörnigheim
  ist seit über 40 Jahren ein Fest der kulturellen Vielfalt in Maintal. Ab
  15 Uhr treffen sich Besucherinnen und Besucher verschiedener Herkunft zu 
 einem friedlichen Miteinander mit Musik\, Essen aus aller Welt und Begegnu
 ngen. Das traditionsreiche Fest in der Berliner Straße 58 steht für Offe
 nheit und Zusammenhalt in der Gemeinde.
GEO:50.137834;8.844364
LAST-MODIFIED:20260419T163353Z
LOCATION:Evangelisches Gemeindezentrum Dörnigheim\, Berliner Straße 58\,
  63477\, Maintal
STATUS:CONFIRMED
URL:https://kulvio.de/event/2884
END:VEVENT
END:VCALENDAR
