BEGIN:VCALENDAR
VERSION:2.0
PRODID:-//Kulvio Event Calendar//kulvio.de//
CALSCALE:GREGORIAN
METHOD:PUBLISH
BEGIN:VEVENT
SUMMARY:Maintaler Weltkindertag
DTSTART:20260920T070000Z
DTEND:20260920T160000Z
DTSTAMP:20260421T034607Z
UID:kulvio-event-2885@kulvio.de
CATEGORIES:Spielfest,Familienausflug
CREATED:20260419T161231Z
DESCRIPTION:Der Maintaler Weltkindertag ist ein großes Familienfest rund 
 um das Brüder-Schönfeld-Haus in Dörnigheim. Von 9 bis 18 Uhr stehen die
  Rechte der Kinder im Mittelpunkt des Tages mit Spiel- und Mitmachaktionen
 \, Informationsständen und Unterhaltung für die ganze Familie. Das jähr
 liche Fest wird von der Stadt Maintal und zahlreichen lokalen Vereinen und
  Organisationen getragen.
GEO:50.136125;8.830765
LAST-MODIFIED:20260419T163353Z
LOCATION:Ascher Straße 62\, 63477\, Maintal
STATUS:CONFIRMED
URL:https://kulvio.de/event/2885
END:VEVENT
END:VCALENDAR
