BEGIN:VCALENDAR
VERSION:2.0
PRODID:-//Kulvio Event Calendar//kulvio.de//
CALSCALE:GREGORIAN
METHOD:PUBLISH
BEGIN:VEVENT
SUMMARY:Hochstädter Weihnachtsmarkt - Samstag
DTSTART:20261205T140000Z
DTEND:20261205T210000Z
DTSTAMP:20260421T042121Z
UID:kulvio-event-2886@kulvio.de
CATEGORIES:Weihnachtsmarkt
CREATED:20260419T161231Z
DESCRIPTION:Der Hochstädter Weihnachtsmarkt öffnet am zweiten Adventswoc
 henende in der Hauptstraße von Maintal-Hochstadt. Von 15 bis 22 Uhr verwa
 ndelt sich das historische Fachwerkensemble in eine vorweihnachtliche Kuli
 sse mit Marktständen\, Kunsthandwerk und kulinarischen Angeboten. Im Bür
 gerhaus Hochstadt findet parallel ein Hobbykünstlermarkt statt.
GEO:50.153045;8.833745
LAST-MODIFIED:20260419T163353Z
LOCATION:Hauptstraße\, 63477\, Maintal
STATUS:CONFIRMED
URL:https://kulvio.de/event/2886
END:VEVENT
END:VCALENDAR
