BEGIN:VCALENDAR
VERSION:2.0
PRODID:-//Kulvio Event Calendar//kulvio.de//
CALSCALE:GREGORIAN
METHOD:PUBLISH
BEGIN:VEVENT
SUMMARY:Hochstädter Weihnachtsmarkt - Sonntag
DTSTART:20261206T100000Z
DTEND:20261206T200000Z
DTSTAMP:20260421T042007Z
UID:kulvio-event-2887@kulvio.de
CATEGORIES:Weihnachtsmarkt
CREATED:20260419T161231Z
DESCRIPTION:Am Sonntag empfängt der Hochstädter Weihnachtsmarkt die Besu
 cher bereits ab 11 Uhr in der historischen Hauptstraße von Maintal-Hochst
 adt. Bis 21 Uhr können Familien durch die nostalgischen Höfe und das Fac
 hwerkambiente bummeln und sich an den Ständen mit Geschenken\, Glühwein 
 und weihnachtlichen Leckereien eindecken. Der Hobbykünstlermarkt im Bürg
 erhaus ergänzt das Angebot.
GEO:50.153045;8.833745
LAST-MODIFIED:20260419T163353Z
LOCATION:Hauptstraße\, 63477\, Maintal
STATUS:CONFIRMED
URL:https://kulvio.de/event/2887
END:VEVENT
END:VCALENDAR
