BEGIN:VCALENDAR
VERSION:2.0
PRODID:-//Kulvio Event Calendar//kulvio.de//
CALSCALE:GREGORIAN
METHOD:PUBLISH
BEGIN:VEVENT
SUMMARY:24. Buchmesse Main-Kinzig - Eröffnung mit Jutta Speidel
DTSTART:20260424T180000Z
DTEND:20260424T200000Z
DTSTAMP:20260421T042809Z
UID:kulvio-event-2888@kulvio.de
CATEGORIES:Lesung
CREATED:20260419T161246Z
DESCRIPTION:Die 24. Buchmesse Main-Kinzig wird am Freitagabend in der Kult
 ur- und Sporthalle Heldenbergen feierlich eröffnet. Schauspielerin und Au
 torin Jutta Speidel liest aus ihrem Roman Amaryllis über alternative Lebe
 nswege und Selbstfindung\, begleitet von Musik. Die Eröffnungslesung stim
 mt auf das Buchmesse-Wochenende ein\, das am Samstag und Sonntag in der Wi
 lli-Salzmann-Halle stattfindet.
GEO:50.241735;8.857045
LAST-MODIFIED:20260419T163353Z
LOCATION:Kultur- und Sporthalle Heldenbergen\, Friedberger Straße 92\, 61
 130\, Nidderau
STATUS:CONFIRMED
URL:https://kulvio.de/event/2888
END:VEVENT
END:VCALENDAR
