BEGIN:VCALENDAR
VERSION:2.0
PRODID:-//Kulvio Event Calendar//kulvio.de//
CALSCALE:GREGORIAN
METHOD:PUBLISH
BEGIN:VEVENT
SUMMARY:24. Buchmesse Main-Kinzig - Samstag
DTSTART:20260425T080000Z
DTEND:20260425T160000Z
DTSTAMP:20260421T034607Z
UID:kulvio-event-2889@kulvio.de
CATEGORIES:Messe
CREATED:20260419T161246Z
DESCRIPTION:Die 24. Buchmesse Main-Kinzig öffnet am Samstag in der Willi-
 Salzmann-Halle in Nidderau-Windecken ihre Türen. Über 40 Verlage und Aut
 oren präsentieren von 10 bis 18 Uhr Bücher aller Genres an ihren Stände
 n. Das Programm umfasst Autorenlesungen\, Buchvorstellungen\, Ausstellunge
 n und Handwerksvorführungen rund um Buch und Illustration. Der Eintritt i
 st frei.
GEO:50.224631;8.877706
LAST-MODIFIED:20260419T163353Z
LOCATION:Willi-Salzmann-Halle\, Heldenberger Straße 16\, 61130\, Nidderau
STATUS:CONFIRMED
URL:https://kulvio.de/event/2889
END:VEVENT
END:VCALENDAR
