BEGIN:VCALENDAR
VERSION:2.0
PRODID:-//Kulvio Event Calendar//kulvio.de//
CALSCALE:GREGORIAN
METHOD:PUBLISH
BEGIN:VEVENT
SUMMARY:24. Buchmesse Main-Kinzig - Sonntag
DTSTART:20260426T080000Z
DTEND:20260426T160000Z
DTSTAMP:20260421T035113Z
UID:kulvio-event-2890@kulvio.de
CATEGORIES:Messe
CREATED:20260419T161246Z
DESCRIPTION:Am Sonntag geht die 24. Buchmesse Main-Kinzig in der Willi-Sal
 zmann-Halle in die zweite Runde. Von 10 bis 18 Uhr können Buchliebhaber b
 ei freiem Eintritt durch die Stände der Verlage stöbern und an Lesungen 
 und Vorführungen teilnehmen. Die Buchmesse in Nidderau-Windecken ist seit
  Jahren ein fester Treffpunkt für Literaturfreunde aus dem Main-Kinzig-Kr
 eis.
GEO:50.224631;8.877706
LAST-MODIFIED:20260419T163353Z
LOCATION:Willi-Salzmann-Halle\, Heldenberger Straße 16\, 61130\, Nidderau
STATUS:CONFIRMED
URL:https://kulvio.de/event/2890
END:VEVENT
END:VCALENDAR
