BEGIN:VCALENDAR
VERSION:2.0
PRODID:-//Kulvio Event Calendar//kulvio.de//
CALSCALE:GREGORIAN
METHOD:PUBLISH
BEGIN:VEVENT
SUMMARY:Rock den Acker Open Air - Family Day
DTSTART:20260514T130000Z
DTEND:20260514T210000Z
DTSTAMP:20260421T042008Z
UID:kulvio-event-2891@kulvio.de
CATEGORIES:Festival,Open-Air
CREATED:20260419T161246Z
DESCRIPTION:Das Rock den Acker Open Air in Nidderau-Erbstadt startet am Fe
 iertag Christi Himmelfahrt mit einem kostenlosen Familientag. Ab 15 Uhr er
 warten Familien Aktivitäten für Kinder\, bevor am Abend erste Live-Bands
  auf die Bühne kommen. Der Family Day ist der Auftakt des dreitägigen Me
 tal- und Rock-Festivals auf dem Festivalgelände an der Bonstädter Straß
 e.
GEO:50.273244;8.864132
LAST-MODIFIED:20260419T163353Z
LOCATION:Bonstädter Straße\, 61130\, Nidderau
STATUS:CONFIRMED
URL:https://kulvio.de/event/2891
END:VEVENT
END:VCALENDAR
